BEGIN:VCALENDAR
VERSION:2.0
PRODID:-//Premier Specialty Network - ECPv6.15.20//NONSGML v1.0//EN
CALSCALE:GREGORIAN
METHOD:PUBLISH
X-WR-CALNAME:Premier Specialty Network
X-ORIGINAL-URL:https://psnmo.net
X-WR-CALDESC:Events for Premier Specialty Network
REFRESH-INTERVAL;VALUE=DURATION:PT1H
X-Robots-Tag:noindex
X-PUBLISHED-TTL:PT1H
BEGIN:VTIMEZONE
TZID:America/Chicago
BEGIN:DAYLIGHT
TZOFFSETFROM:-0600
TZOFFSETTO:-0500
TZNAME:CDT
DTSTART:20210314T080000
END:DAYLIGHT
BEGIN:STANDARD
TZOFFSETFROM:-0500
TZOFFSETTO:-0600
TZNAME:CST
DTSTART:20211107T070000
END:STANDARD
BEGIN:DAYLIGHT
TZOFFSETFROM:-0600
TZOFFSETTO:-0500
TZNAME:CDT
DTSTART:20220313T080000
END:DAYLIGHT
BEGIN:STANDARD
TZOFFSETFROM:-0500
TZOFFSETTO:-0600
TZNAME:CST
DTSTART:20221106T070000
END:STANDARD
BEGIN:DAYLIGHT
TZOFFSETFROM:-0600
TZOFFSETTO:-0500
TZNAME:CDT
DTSTART:20230312T080000
END:DAYLIGHT
BEGIN:STANDARD
TZOFFSETFROM:-0500
TZOFFSETTO:-0600
TZNAME:CST
DTSTART:20231105T070000
END:STANDARD
END:VTIMEZONE
BEGIN:VEVENT
DTSTART;TZID=America/Chicago:20220301T075645
DTEND;TZID=America/Chicago:20220301T075645
DTSTAMP:20260423T030411
CREATED:20190828T161557Z
LAST-MODIFIED:20190828T161600Z
UID:6183-1646121405-1646121405@psnmo.net
SUMMARY:AMGEN Evenity(TM) Presentation
DESCRIPTION:Speaker\nAaron Broadwell\, MD\nBarred Owl Butcher & Table\n47 East Broadway\nColumbia\, MO 65203\n(573) 442-9323\nWednesday\, September 11\, 2019\n6:00 PM\, Central\nPLEASE RSVP TO: Chris Wolf\nPHONE: (316) 295-6421\nE-MAIL: rwolf01@amgen.com\n\nEVENITY-AMGEN-SEPT112019\n\n 
URL:https://psnmo.net/event/amgen-evenitytm-presentation/
LOCATION:Missouri
CATEGORIES:Symposiums
END:VEVENT
BEGIN:VEVENT
DTSTART;TZID=America/Chicago:20220301T075645
DTEND;TZID=America/Chicago:20220301T075645
DTSTAMP:20260423T030411
CREATED:20191105T211447Z
LAST-MODIFIED:20220324T210725Z
UID:6205-1646121405-1646121405@psnmo.net
SUMMARY:ACR/ARP Annual Meeting
DESCRIPTION:Join us at the ACR/ARP Annual Meeting in Atlanta\, Georgia November 8 – 13\, 2019. \nScientific Session registration includes admission to all scientific sessions\, exhibit hall\, poster hall\, and opening lecture. You will also receive access to ACR Beyond LIVE and 12 months access to our library of on-demand content. See registration fees.\nCan’t make it in person this year? Register to attend virtually. The Review Course and nearly 50 scientific sessions will be broadcast live for virtual attendee participation. List of ACR Beyond LIVE sessions Details about ACR Beyond LIVE registration
URL:https://psnmo.net/event/acr-arp-annual-meeting/
LOCATION:Missouri
CATEGORIES:Conferences
END:VEVENT
BEGIN:VEVENT
DTSTART;TZID=America/Chicago:20220301T075645
DTEND;TZID=America/Chicago:20220301T075645
DTSTAMP:20260423T030411
CREATED:20200210T212300Z
LAST-MODIFIED:20220322T124724Z
UID:6234-1646121405-1646121405@psnmo.net
SUMMARY:Rheumatology Association of Iowa 6th Annual Meeting
DESCRIPTION:The Rheumatology Association of Iowa (RAI) is an organization offering a sense of community to those who work directly and indirectly in the field of rheumatology in Iowa and across the Midwest. RAI was founded in 2015 by founding RAI President Michael Brooks\, MD\, FACP\, FACR and founding board members Steven Eyanson\, MD\, FACP\, FACR and David B Staub\, MD. The organization is designed to bring together those in the field of rheumatology for conversations to improve quality of rheumatic care\, increase awareness and create a professional forum for scientific and advocacy issues that surround the field of rheumatology. The conference committee will once again provide a CME accredited educational meeting featuring prominent speakers addressing current issues and breakthrough topics relevant to all rheumatology health providers. \nPlease check the meeting site for cme and program information!
URL:https://psnmo.net/event/rheumatology-association-of-iowa-6th-annual-meeting/
LOCATION:Missouri
CATEGORIES:Continuing Medical Education (CME)
ATTACH;FMTTYPE=image/png:https://psnmo.net/wp-content/uploads/2018/02/rai.png
END:VEVENT
BEGIN:VEVENT
DTSTART;TZID=America/Chicago:20220301T075645
DTEND;TZID=America/Chicago:20220301T075645
DTSTAMP:20260423T030411
CREATED:20200217T183704Z
LAST-MODIFIED:20211208T035841Z
UID:6245-1646121405-1646121405@psnmo.net
SUMMARY:ATSU Continuing Education Las Vegas 2020
DESCRIPTION:Course Description\nHealth care professionals are confronting the challenge of maintaining and improving competence over the course of lengthy careers in diverse practice specialties. This course was designed to provide attendees with current and relevant updates to your daily management of commonly seen patient health concerns in primary care. This course will present a comprehensive review of new developments in medicine and the day-to-day controversies of office practice. Providers will be able to apply the most current treatment strategies provided in recent clinical guideline updates\, recognize effective interventions\, and employ relevant research in their daily patient encounters. Course Topics \nEducational Objectives\nSummarize recent updates\, clinical studies\, and new guidelines that impact practice in primary care Assess and provide patients with an accurate diagnosis and optimal care for a broad range of diseases and conditions seen in primary care Develop and implement strategies that overcome patient and clinician barriers and improve health outcomes for your patients Recognize when to refer to a specialist to provide optimal patient care Target Audience The target audience includes general practitioners\, family medicine physicians\, and other primary healthcare providers that are interested in refreshing their knowledge and improving their competence on commonly seen conditions. \nEducational Need\nThe need for more information\, knowledge and competence is evident in the busy practicing physician. Often training is out of date and a lack of time is challenging to stay current with advances in the busy physician’s practice. 45% of the total U.S. population live with a chronic condition and improving the quality of their care is a major policy priority. Many patients see a primary care physician for all of their care (Medical Economics from the CDC). Up to date review of clinical guidelines is necessary to present practicing physicians with the level of knowledge and understanding they need to improve patient care. Multimorbidity is particularly important in generalist settings\, such as primary care\, where family practitioners act as the first point of contact for people with a wide range of conditions and frequently manage patients with multiple coexisting conditions. Most patients consulting in family practice have multimorbidity\, and the number of coexisting conditions increases with age. \nProfessional Practice Gap\nA significant gap exists between research recommendations\, scientific evidence\, and clinical practice guidelines\, on the one hand and actual clinical practice\, on the other. With only 55% adherence to evidence-based care\, the significance of disparity disconcerts health care stakeholders. This gap\, the difference between what health professionals know and what they do\, challenges effective and efficient health care by undermining the benefits realized from advances in the science of medicine and the dedication of professionals delivering care. It is well-documented that interventions designed to change practice must be based on an accurate assessment of the needs and causal variables that support and impede targeted health outcomes. Lack of knowledge\, awareness\, professional skill or appraisal skills are well known barriers to optimal care. We base our courses on the concepts of quality improvement in order to achieve and maintain physician competency and performance in the areas where physicians have expressed a professional gap. \nDesired Outcomes\nThis conference is designed to provide primary care practitioners with up-to-date\, evidence-based information on commonly encountered clinician and patient wellness issues\, while suggesting pragmatic approaches to clinical management. After attending the sessions our goal is to enhance the knowledge-base and core competence of attendees. The successful completion of this interactive program should improve attendees’ confidence in diagnosing\, treating\, and prescribing the most effective courses of treatment\, with the ultimate goal of improving clinician and patient outcomes. \nAccreditation Statement\nATSU is accredited by the American Osteopathic Association (AOA) to provide osteopathic continuing medical education for physicians. ATSU designates this program for a maximum of 18 AOA Category 1-A credits and will report CME and specialty credits commensurate with the extent of the physician’s participation in this activity. CALL THE ATSU CE OFFICE AT 660-626-2232 FOR MORE INFORMATION.
URL:https://psnmo.net/event/atsu-continuing-education-las-vegas-2020/
LOCATION:Missouri
CATEGORIES:Continuing Medical Education (CME)
END:VEVENT
BEGIN:VEVENT
DTSTART;TZID=America/Chicago:20220301T075645
DTEND;TZID=America/Chicago:20220301T075645
DTSTAMP:20260423T030411
CREATED:20210402T152136Z
LAST-MODIFIED:20220713T142557Z
UID:6595-1646121405-1646121405@psnmo.net
SUMMARY:PSN 2021 13th Annual Conference
DESCRIPTION:September 10-12\, 2021 \n\n\n\n\n\nLodge of Four Seasons\, Lake Ozark\, Missouri
URL:https://psnmo.net/event/psn-13th-annual-conference/
LOCATION:Missouri
CATEGORIES:Conferences,Networking
ATTACH;FMTTYPE=image/jpeg:https://psnmo.net/wp-content/uploads/2021/09/Reunited-WhiteBK.jpg
END:VEVENT
END:VCALENDAR