BEGIN:VCALENDAR
VERSION:2.0
PRODID:-//Premier Specialty Network - ECPv6.15.20//NONSGML v1.0//EN
CALSCALE:GREGORIAN
METHOD:PUBLISH
X-ORIGINAL-URL:https://psnmo.net
X-WR-CALDESC:Events for Premier Specialty Network
REFRESH-INTERVAL;VALUE=DURATION:PT1H
X-Robots-Tag:noindex
X-PUBLISHED-TTL:PT1H
BEGIN:VTIMEZONE
TZID:America/Chicago
BEGIN:DAYLIGHT
TZOFFSETFROM:-0600
TZOFFSETTO:-0500
TZNAME:CDT
DTSTART:20150308T080000
END:DAYLIGHT
BEGIN:STANDARD
TZOFFSETFROM:-0500
TZOFFSETTO:-0600
TZNAME:CST
DTSTART:20151101T070000
END:STANDARD
BEGIN:DAYLIGHT
TZOFFSETFROM:-0600
TZOFFSETTO:-0500
TZNAME:CDT
DTSTART:20160313T080000
END:DAYLIGHT
BEGIN:STANDARD
TZOFFSETFROM:-0500
TZOFFSETTO:-0600
TZNAME:CST
DTSTART:20161106T070000
END:STANDARD
BEGIN:DAYLIGHT
TZOFFSETFROM:-0600
TZOFFSETTO:-0500
TZNAME:CDT
DTSTART:20170312T080000
END:DAYLIGHT
BEGIN:STANDARD
TZOFFSETFROM:-0500
TZOFFSETTO:-0600
TZNAME:CST
DTSTART:20171105T070000
END:STANDARD
END:VTIMEZONE
BEGIN:VEVENT
DTSTART;TZID=America/Chicago:20161021T030000
DTEND;TZID=America/Chicago:20161021T103000
DTSTAMP:20260419T225751
CREATED:20161010T225856Z
LAST-MODIFIED:20220714T012231Z
UID:1748-1477018800-1477045800@psnmo.net
SUMMARY:2016 KC Safe Opioid Prescribing Workshop
DESCRIPTION:The Health Resources and Services Administration (HRSA)\nFriday\, October 21st\, 2016\nDid you know that in Jackson County\, Missouri: \n\nEmergency Department visits due to opioid abuse more than quadrupled from 2004 – 2013\, and\nInpatient hospitalizations doubled in the same time frame?\n\nThe Regional Opiates and Heroin Steering Committee and the Kansas City Quality Improvement Consortium invite you to the 2016 KC Safe Opioid Prescribing Workshop. \nAudience: Primary Care Physicians\, Behavioral Health Providers\, Dentists \nTopics: The Opioid Crisis\, Chronic Pain & Behavioral Health Safe Opioid Prescribing in Primary Care & Dentistry Patient Assessment\, Treatment\, & Engagement Case Studies/Breakout Sessions \nSpeakers:   Dr. Karl Haake\, Missouri Primary Care Association Dr. Richard Lillard\, Community Health Center of Central Missouri Dr. William Kane\, Missouri Dental Association Rachel Mutrux\, Sr. Program Director\, Missouri Telehealth \nNetwork Date:             Friday\, October 21\, 2016\nTime:             8:30 am – 3:30 pm *Registration starts at 8:00am.\nLocation:       Kauffman Foundation Conference Center 4801 Rockhill Rd\, Kansas City\, MO 64110\nCost:            Free *Lunch will be provided. Space is limited! \nADDRESSING THE OPIOID ABUSE EPIDEMIC IS AN URGENT PRIORITY!  CALL TO ACTION\n–      Learn and use the Centers for Disease Control and Prevention (CDC) tools on Safe Opioid Prescribing.\n–      Educate patients about safe opioid use and their options for pain management.\n–      Join us at 2016 KC Safe Opioid Prescribing Workshop on October 21st!\n–      Go to www.TurnTheTideRx.org to join with clinicians from across the country in a simple but powerful movement to end this epidemic. \nFor more information\, contact Nancy Rios at 816-426-5206 or at NRios@hrsa.gov \nThe Health Resources and Services Administration (HRSA)\, an agency of the U.S. Department of Health and Human Services\, is the primary Federal agency for improving health and achieving health equity through access to quality services\, a skilled health workforce and innovative programs. HRSA’s programs provide health care to people who are geographically isolated\, economically or medically vulnerable. [/fusion_text][/fusion_builder_column][/fusion_builder_row][/fusion_builder_container]
URL:https://psnmo.net/event/2016-kc-safe-opioid-prescribing-workshop/
LOCATION:Kauffman Foundation Conference Center\, 4801 Rockhill Rd\, Kansas City\, MO\, 64110\, United States
CATEGORIES:Healthcare Workshops
ATTACH;FMTTYPE=image/jpeg:https://psnmo.net/wp-content/uploads/2016/10/CME-Presentation.jpeg
END:VEVENT
END:VCALENDAR