BEGIN:VCALENDAR
VERSION:2.0
PRODID:-//Premier Specialty Network - ECPv6.15.20//NONSGML v1.0//EN
CALSCALE:GREGORIAN
METHOD:PUBLISH
X-WR-CALNAME:Premier Specialty Network
X-ORIGINAL-URL:https://psnmo.net
X-WR-CALDESC:Events for Premier Specialty Network
REFRESH-INTERVAL;VALUE=DURATION:PT1H
X-Robots-Tag:noindex
X-PUBLISHED-TTL:PT1H
BEGIN:VTIMEZONE
TZID:America/Chicago
BEGIN:DAYLIGHT
TZOFFSETFROM:-0600
TZOFFSETTO:-0500
TZNAME:CDT
DTSTART:20180311T080000
END:DAYLIGHT
BEGIN:STANDARD
TZOFFSETFROM:-0500
TZOFFSETTO:-0600
TZNAME:CST
DTSTART:20181104T070000
END:STANDARD
BEGIN:DAYLIGHT
TZOFFSETFROM:-0600
TZOFFSETTO:-0500
TZNAME:CDT
DTSTART:20190310T080000
END:DAYLIGHT
BEGIN:STANDARD
TZOFFSETFROM:-0500
TZOFFSETTO:-0600
TZNAME:CST
DTSTART:20191103T070000
END:STANDARD
BEGIN:DAYLIGHT
TZOFFSETFROM:-0600
TZOFFSETTO:-0500
TZNAME:CDT
DTSTART:20200308T080000
END:DAYLIGHT
BEGIN:STANDARD
TZOFFSETFROM:-0500
TZOFFSETTO:-0600
TZNAME:CST
DTSTART:20201101T070000
END:STANDARD
END:VTIMEZONE
BEGIN:VEVENT
DTSTART;TZID=America/Chicago:20190110T080000
DTEND;TZID=America/Chicago:20190111T170000
DTSTAMP:20260421T112039
CREATED:20190103T180756Z
LAST-MODIFIED:20220328T185712Z
UID:5260-1547107200-1547226000@psnmo.net
SUMMARY:Opioids and the Workplace CME
DESCRIPTION:Mizzou // University of Missouri\n\n\n\nJanuary 10 – 11\, 2019\n\n\n\nThere is a compelling need to change how we look at the opioid problem\, specifically its impact on workers and the workforce. \n\n\n\nThis two-day event will kick off a series of programs around Missouri designed to bring together people who make policy\, people who influence policy\, and those affected by these policies. \n\n\n\nThe goal is to develop a realistic action plan\, developed by and for the people most involved with the problem. \n\n\n\nWe invite you to be a part of the discussion\, and to help initiate real change in Missouri. \n\n\n\nTarget Audience: \n\n\n\nBusiness leaders who are in position to influence how their business’ employment practices are set.Labor leaders who recruit\, train and maintain a large force of ready-trained workers\, particularly from organizations that also provide health insurance plans.Health Care professionals interested in looking for alternative treatments and ways to reduce OUD.Community members\, those who work directly in the field with OUD sufferers as well as family members of sufferers and others who want to know more about what can be done differently than is being done now.\n\n\n\nObjectives/Outcomes \n\n\n\nUnderstand how opioids are impacting the workforceUnderstand how and why the current employment practices dealing with opioids are problematic and likely to get worseExplore new ideas and ways of dealing with pain management\, medication\, perspectives of Opioid Use Disorder (OUD) recovery\, as well as return to work policies.Develop changes that could be made concerning employment and the intersection of consequences of the opioid crisis.Learn current information on the opioid crisisDiscuss the crisis as well as solutions with individuals from different backgrounds\n\n\n\nTopics Include: \n\n\n\nDefining the opioid use crisis and its impact on the workforceThe economic impact of addiction on individuals\, businesses and the communityExamining what does and doesn’t work in dealing with the crisisBuilding collaborationsCreating realistic strategies\n\n\n\nActivity approved for AMA PRA Category 1 Credit(s)™ \n\n\n\nThe University of Missouri Sinclair School of Nursing is an approved provider of continuing education by the Midwest Multistate Division\, an accredited approver by the American Nurses’ Credentialing Center’s Commission on Accreditation. \n\n\n\nMidwest Multistate Division Provider Number MO 1019-7 \n\n\n\nThe Missouri Bar has approved this program for 11.4 hours of CLE credit. \n\n\n\nPharmacy: The Continuing Education Committee of the Board of Pharmacy has reviewed and approved the conference for 1 CE(s) per session. Program number: 2018-11-11 \n\n\n\nPresented by: Labor Studies Program\, UMSL | University of Missouri ExtensionMU Sinclair School of Nursing | MU Center for Continuing Medical Education & Physician Lifelong Learning \n\n\n\nConference information will be added as it becomes available.
URL:https://psnmo.net/event/opioids-and-the-workplace-cme/
LOCATION:Millinneum Student Center\, 1 University Blvd. 379 Millennium Student Center\, St. Louis\, MO\, 63121\, United States
CATEGORIES:Continuing Medical Education (CME)
ATTACH;FMTTYPE=image/png:https://psnmo.net/wp-content/uploads/2019/01/UniversityOfMissouri.png
ORGANIZER;CN="University of Missouri Health":MAILTO:HallMann@health.missouri.edu
END:VEVENT
END:VCALENDAR