BEGIN:VCALENDAR
VERSION:2.0
PRODID:-//Premier Specialty Network - ECPv6.15.20//NONSGML v1.0//EN
CALSCALE:GREGORIAN
METHOD:PUBLISH
X-WR-CALNAME:Premier Specialty Network
X-ORIGINAL-URL:https://psnmo.net
X-WR-CALDESC:Events for Premier Specialty Network
REFRESH-INTERVAL;VALUE=DURATION:PT1H
X-Robots-Tag:noindex
X-PUBLISHED-TTL:PT1H
BEGIN:VTIMEZONE
TZID:America/Chicago
BEGIN:DAYLIGHT
TZOFFSETFROM:-0600
TZOFFSETTO:-0500
TZNAME:CDT
DTSTART:20150308T080000
END:DAYLIGHT
BEGIN:STANDARD
TZOFFSETFROM:-0500
TZOFFSETTO:-0600
TZNAME:CST
DTSTART:20151101T070000
END:STANDARD
BEGIN:DAYLIGHT
TZOFFSETFROM:-0600
TZOFFSETTO:-0500
TZNAME:CDT
DTSTART:20160313T080000
END:DAYLIGHT
BEGIN:STANDARD
TZOFFSETFROM:-0500
TZOFFSETTO:-0600
TZNAME:CST
DTSTART:20161106T070000
END:STANDARD
BEGIN:DAYLIGHT
TZOFFSETFROM:-0600
TZOFFSETTO:-0500
TZNAME:CDT
DTSTART:20170312T080000
END:DAYLIGHT
BEGIN:STANDARD
TZOFFSETFROM:-0500
TZOFFSETTO:-0600
TZNAME:CST
DTSTART:20171105T070000
END:STANDARD
END:VTIMEZONE
BEGIN:VEVENT
DTSTART;TZID=America/Chicago:20160616T171500
DTEND;TZID=America/Chicago:20160616T210000
DTSTAMP:20260425T232358
CREATED:20160517T203117Z
LAST-MODIFIED:20220714T012628Z
UID:866-1466097300-1466110800@psnmo.net
SUMMARY:SLRA Presentation & Dinner – June 2016
DESCRIPTION:St. Louis Rheumatology Association\nWednesday\, June 16th\, 2016\nVibeke Strand\, MD\, FACP\, FACR \nVibeke Strand\, MD\, FACP\, FACR is the Adjunct Clinical Professor for the Division of Immunology/Rheumatology at Stanford University and a Biopharmaceutical Consultant. \nDr. Strand serves a consultant in clinical research and regulatory affairs to pharmaceutical and biotech companies. She graduated from Swarthmore College with honors\, attended the University of California\, San Francisco School of Medicine and returned there to complete her subspecialty Rheumatology Fellowship. She was one of eight in the first Primary Care Internal Medicine Residency at Michigan State University. She has been a clinical rheumatologist for 30 years – in subspecialty practice in San Francisco\, as a clinical investigator\, as an IRB member and subsequently as the director of clinical research at 3 pharmaceutical and biotech companies. \n6:00 – 6:30 pm Registration \n6:30 – 9:00 pm Presentation and dinner \nNieman Marcus\, Zodiac Room\, Hwy 40 and \nLindbergh \nThis live activity has been planned and implemented in accordance with the accreditation requirements and policies of the Accreditation Council for Continuing Medical Education (ACCME) through the joint providership of Washington University School of Medicine\, Continuing Medical Education and St. Louis Rheumatology Association.  Washington University is accredited by the ACCME to provide continuing medical education for physicians.  Washington University designates this live activity for a maximum of _1_ AMA PRA Category 1 CreditsTM. Physicians should claim only the credit commensurate with the extent of their participation in the activity. \nIt is the policy of Washington University School of Medicine\, Continuing Medical Education\, to ensure balance\, independence\, objectivity and scientific rigor in all its educational activities.  All planners\, faculty and other persons who may influence content of this CME activity have disclosed all relevant financial relationships with commercial interests. All disclosures have been reported and are indicated with their presentations.  Any potential conflicts were addressed and resolved. \n All members of the CME department have nothing to disclose.  Speakers are also expected to openly disclose inclusion of discussion of any off-label\, experimental\, or investigational use of drugs or devices in their presentations. Presentations are expected to be based on evidence that is accepted within the profession of medicine as adequate justification for their indication in the care of patients.  All scientific research should conform to the generally accepted standards of experimental design\, data collection and analysis. \nThese presentations are not an endorsement of any commercial interests. These presentations are the views and experiences of the presenters.  The presenters’ views do not represent the policy or position of Washington University School of Medicine.  Washington University School of Medicine\, Continuing Medical Education\, is the sponsor for CME credits. \nSt. Louis Rheumatology Association\nJune 16\, 2016\n“Update on the approval of biosimilars in the United States”\nVibeke Strand\, MD\, FACP\, FACR\nAdjunct Clinical ProfessorDivision of Immunology/Rheumatology\nStanford University\nBiopharmaceutical Consultant\n6:30 – 7:00 pm Registration\n7:00 – 9:00 pm Presentation and dinner\nZodiac Restaurant (2nd floor Nieman Marcus)1701 South Lindbergh Blvd\, Saint Louis\, MO 63131\nCME\nThis live activity has been planned and implemented in accordance with the accreditation requirements and policies of the Accreditation Council for Continuing Medical Education (ACCME) through the joint providership of Washington University School of Medicine\, Continuing Medical Education and St. Louis Rheumatology Association.  Washington University is accredited by the ACCME to provide continuing medical education for physicians.  Washington University designates this live activity for a maximum of _1_ AMA PRA Category 1 CreditsTM. Physicians should claim only the credit commensurate with the extent of their participation in the activity.\nIt is the policy of Washington University School of Medicine\, Continuing Medical Education\, to ensure balance\, independence\, objectivity and scientific rigor in all its educational activities.  All planners\, faculty and other persons who may influence content of this CME activity have disclosed all relevant financial relationships with commercial interests. All disclosures have been reported and are indicated with their presentations.  Any potential conflicts were addressed and resolved.\n All members of the CME department have nothing to disclose.  Speakers are also expected to openly disclose inclusion of discussion of any off-label\, experimental\, or investigational use of drugs or devices in their presentations. Presentations are expected to be based on evidence that is accepted within the profession of medicine as adequate justification for their indication in the care of patients.  All scientific research should conform to the generally accepted standards of experimental design\, data collection and analysis.\nThese presentations are not an endorsement of any commercial interests. These presentations are the views and experiences of the presenters.  The presenters’ views do not represent the policy or position of Washington University School of Medicine.  Washington University School of Medicine\, Continuing Medical Education\, is the sponsor for CME credits.
URL:https://psnmo.net/event/slra-presentation-dinner-june-2016/
LOCATION:The Zodiac\, Upper Level\, 100 Plaza Frontenac\, St. Louis\, MO\, 63131\, United States
CATEGORIES:Continuing Medical Education (CME)
ATTACH;FMTTYPE=image/jpeg:https://psnmo.net/wp-content/uploads/2016/05/CME-meeting.jpeg
ORGANIZER;CN="St Louis Rheumatology Association":MAILTO:stlrheum@gmail.com
END:VEVENT
END:VCALENDAR