BEGIN:VCALENDAR
VERSION:2.0
PRODID:-//Premier Specialty Network - ECPv6.15.20//NONSGML v1.0//EN
CALSCALE:GREGORIAN
METHOD:PUBLISH
X-ORIGINAL-URL:https://psnmo.net
X-WR-CALDESC:Events for Premier Specialty Network
REFRESH-INTERVAL;VALUE=DURATION:PT1H
X-Robots-Tag:noindex
X-PUBLISHED-TTL:PT1H
BEGIN:VTIMEZONE
TZID:America/Chicago
BEGIN:DAYLIGHT
TZOFFSETFROM:-0600
TZOFFSETTO:-0500
TZNAME:CDT
DTSTART:20160313T080000
END:DAYLIGHT
BEGIN:STANDARD
TZOFFSETFROM:-0500
TZOFFSETTO:-0600
TZNAME:CST
DTSTART:20161106T070000
END:STANDARD
BEGIN:DAYLIGHT
TZOFFSETFROM:-0600
TZOFFSETTO:-0500
TZNAME:CDT
DTSTART:20170312T080000
END:DAYLIGHT
BEGIN:STANDARD
TZOFFSETFROM:-0500
TZOFFSETTO:-0600
TZNAME:CST
DTSTART:20171105T070000
END:STANDARD
BEGIN:DAYLIGHT
TZOFFSETFROM:-0600
TZOFFSETTO:-0500
TZNAME:CDT
DTSTART:20180311T080000
END:DAYLIGHT
BEGIN:STANDARD
TZOFFSETFROM:-0500
TZOFFSETTO:-0600
TZNAME:CST
DTSTART:20181104T070000
END:STANDARD
END:VTIMEZONE
BEGIN:VEVENT
DTSTART;TZID=America/Chicago:20170720T180000
DTEND;TZID=America/Chicago:20170720T210000
DTSTAMP:20260423T000230
CREATED:20170509T150016Z
LAST-MODIFIED:20220713T235526Z
UID:2425-1500573600-1500584400@psnmo.net
SUMMARY:SLRA Presentation & Dinner – July 2017
DESCRIPTION:St. Louis Rheumatology Association\nThursday\, July 20\, 2017\n \nDr. Phil Mease \nPotpourri of hot topics from EULAR; abstracts of PsA\,SpA\, RA\, et al \nDr Phil Mease is a Clinical Professor at the University of Washington School of Medicine in Seattle Director of the Rheumatology Clinical Research Division of Swedish Medical Center \nHis clinical practice is based at Seattle Rheumatology Associates. He conducts clinical trials of emerging therapies for rheumatic diseases such as rheumatoid arthritis\, psoriatic arthritis\, ankylosing spondylitis\, fibromyalgia\, osteoarthritis and lupus. He conducts research in disease state metrics and is the Co-Chair of three working groups of OMERACT (Outcome Measures in Rheumatology Clinical Trials) on psoriatic arthritis\, fibromyalgia and single joint assessment\, as well as being a member of the Soluble Biomarker working group. He is a founding organizer and President of GRAPPA (Group for Research and Assessment of Psoriasis and Psoriatic Arthritis)\, and a member of SPARTAN (Spondyloarthritis Research & Treatment Network). \n6:15 – 7:00 pm Registration \n7:00 – 9:00 pm Presentation and dinner \nNieman Marcus\, Zodiac Room\, Hwy 40 and \nLindbergh \nThis live activity has been planned and implemented in accordance with the accreditation requirements and policies of the Accreditation Council for Continuing Medical Education (ACCME) through the joint providership of Washington University School of Medicine\, Continuing Medical Education and St. Louis Rheumatology Association.  Washington University is accredited by the ACCME to provide continuing medical education for physicians.  Washington University designates this live activity for a maximum of _1_ AMA PRA Category 1 CreditsTM. Physicians should claim only the credit commensurate with the extent of their participation in the activity. \nIt is the policy of Washington University School of Medicine\, Continuing Medical Education\, to ensure balance\, independence\, objectivity and scientific rigor in all its educational activities.  All planners\, faculty and other persons who may influence content of this CME activity have disclosed all relevant financial relationships with commercial interests. All disclosures have been reported and are indicated with their presentations.  Any potential conflicts were addressed and resolved. \n All members of the CME department have nothing to disclose.  Speakers are also expected to openly disclose inclusion of discussion of any off-label\, experimental\, or investigational use of drugs or devices in their presentations. Presentations are expected to be based on evidence that is accepted within the profession of medicine as adequate justification for their indication in the care of patients.  All scientific research should conform to the generally accepted standards of experimental design\, data collection and analysis. \nThese presentations are not an endorsement of any commercial interests. These presentations are the views and experiences of the presenters.  The presenters’ views do not represent the policy or position of Washington University School of Medicine.  Washington University School of Medicine\, Continuing Medical Education\, is the sponsor for CME credits.
URL:https://psnmo.net/event/slra-presentation-dinner-july-2017/
LOCATION:The Zodiac\, Upper Level\, 100 Plaza Frontenac\, St. Louis\, MO\, 63131\, United States
CATEGORIES:Continuing Medical Education (CME)
ATTACH;FMTTYPE=image/jpeg:https://psnmo.net/wp-content/uploads/2018/03/qtq80-TTAEfk.jpeg
ORGANIZER;CN="St Louis Rheumatology Association":MAILTO:stlrheum@gmail.com
END:VEVENT
END:VCALENDAR