BEGIN:VCALENDAR
VERSION:2.0
PRODID:-//Premier Specialty Network - ECPv6.15.20//NONSGML v1.0//EN
CALSCALE:GREGORIAN
METHOD:PUBLISH
X-ORIGINAL-URL:https://psnmo.net
X-WR-CALDESC:Events for Premier Specialty Network
REFRESH-INTERVAL;VALUE=DURATION:PT1H
X-Robots-Tag:noindex
X-PUBLISHED-TTL:PT1H
BEGIN:VTIMEZONE
TZID:America/Chicago
BEGIN:DAYLIGHT
TZOFFSETFROM:-0600
TZOFFSETTO:-0500
TZNAME:CDT
DTSTART:20180311T080000
END:DAYLIGHT
BEGIN:STANDARD
TZOFFSETFROM:-0500
TZOFFSETTO:-0600
TZNAME:CST
DTSTART:20181104T070000
END:STANDARD
BEGIN:DAYLIGHT
TZOFFSETFROM:-0600
TZOFFSETTO:-0500
TZNAME:CDT
DTSTART:20190310T080000
END:DAYLIGHT
BEGIN:STANDARD
TZOFFSETFROM:-0500
TZOFFSETTO:-0600
TZNAME:CST
DTSTART:20191103T070000
END:STANDARD
BEGIN:DAYLIGHT
TZOFFSETFROM:-0600
TZOFFSETTO:-0500
TZNAME:CDT
DTSTART:20200308T080000
END:DAYLIGHT
BEGIN:STANDARD
TZOFFSETFROM:-0500
TZOFFSETTO:-0600
TZNAME:CST
DTSTART:20201101T070000
END:STANDARD
END:VTIMEZONE
BEGIN:VEVENT
DTSTART;TZID=America/Chicago:20190719T200000
DTEND;TZID=America/Chicago:20190721T210000
DTSTAMP:20260425T103937
CREATED:20190401T172757Z
LAST-MODIFIED:20220713T234904Z
UID:6082-1563566400-1563742800@psnmo.net
SUMMARY:PSN 2019 Annual Meeting
DESCRIPTION:Join us for the 12th Annual PSN Meeting to be held July 19-21 at the Lodge of Four Seasons in Lake Ozark\, MO. We have a great schedule planned in addition to opportunities to network with others and enjoy the beautiful Ozarks! On Friday evening we will enjoy a meet and greet yacht cruise on the lake from 8p-10p\, followed by s’mores on the shore until 11pm. Saturday we will have incredible speakers offering relevant information and will finish in the afternoon around 3pm.  \n\n\n\n \n\n\n\n\nMeeting Agenda\n\n\n\nExhibitor Form\n\n\n\n\n  
URL:https://psnmo.net/event/the-psn-2019-annual-meeting/
LOCATION:The Lodge of Four Seasons\, 315 Four Seasons Drive\, Lake Ozark\, MO\, 65049\, United States
CATEGORIES:Conferences
ATTACH;FMTTYPE=image/jpeg:https://psnmo.net/wp-content/uploads/2019/02/Navigating-Success.jpg
ORGANIZER;CN="Premier Specialty Network":MAILTO:info@psnmo.net
END:VEVENT
END:VCALENDAR