BEGIN:VCALENDAR
VERSION:2.0
PRODID:-//Premier Specialty Network - ECPv6.15.20//NONSGML v1.0//EN
CALSCALE:GREGORIAN
METHOD:PUBLISH
X-ORIGINAL-URL:https://psnmo.net
X-WR-CALDESC:Events for Premier Specialty Network
REFRESH-INTERVAL;VALUE=DURATION:PT1H
X-Robots-Tag:noindex
X-PUBLISHED-TTL:PT1H
BEGIN:VTIMEZONE
TZID:America/Chicago
BEGIN:DAYLIGHT
TZOFFSETFROM:-0600
TZOFFSETTO:-0500
TZNAME:CDT
DTSTART:20150308T080000
END:DAYLIGHT
BEGIN:STANDARD
TZOFFSETFROM:-0500
TZOFFSETTO:-0600
TZNAME:CST
DTSTART:20151101T070000
END:STANDARD
BEGIN:DAYLIGHT
TZOFFSETFROM:-0600
TZOFFSETTO:-0500
TZNAME:CDT
DTSTART:20160313T080000
END:DAYLIGHT
BEGIN:STANDARD
TZOFFSETFROM:-0500
TZOFFSETTO:-0600
TZNAME:CST
DTSTART:20161106T070000
END:STANDARD
BEGIN:DAYLIGHT
TZOFFSETFROM:-0600
TZOFFSETTO:-0500
TZNAME:CDT
DTSTART:20170312T080000
END:DAYLIGHT
BEGIN:STANDARD
TZOFFSETFROM:-0500
TZOFFSETTO:-0600
TZNAME:CST
DTSTART:20171105T070000
END:STANDARD
END:VTIMEZONE
BEGIN:VEVENT
DTSTART;VALUE=DATE:20160401
DTEND;VALUE=DATE:20160403
DTSTAMP:20260425T231818
CREATED:20160503T222746Z
LAST-MODIFIED:20220714T013139Z
UID:736-1459537200-1459623599@psnmo.net
SUMMARY:1st Annual ROR Symposium
DESCRIPTION:Clinical Rheumatology Symposium on the River\n\n\nSponsored by Washington University School of Medicine\, CME\nLearning objectives: 4 hour clinical rheumatology program providing updates on 4 rheumatic diseases/disorders from the recent ACR national meeting. The four conditions are Scleroderma\, Lupus\, Chikugunya\, Rheumatoid Arthirits. \nAGENDA\n\n\n\n\nTime\nDetails\n\n\n\n\n7:00 – 8:00\nBreakfast and registration at Grist Mill restaurant\n\n\n8:00\nCME presentations at conference center\n\n\n8:00 – 9:00\nIntroduction and lecture by Richard Brasington\, M.D.\, F.A.C.P.“Update on Scleroderma”\n\n\n9:00 – 10:00\nJonathan Miner\, M.D.\, Ph.D.“Chikungunya\, Is your clinic about to be overwhelmed?”\n\n\n10:00 – 11:00\nRound table on ACR recommendations for RA\, Anne Winkler\, M.D.\, Ph.D. and Robert Jackson\, D.O.\n\n\n11:00 – 12:00\nAlfred Kim\, M.D.\, Ph.D.“Lupus treatment in 2016”\n\n\n12:00EA\nEnd of CME program\n\n\n\nCME PROVIDED BY \nWashington University School of Medicine\, Continuing Medical Education. \nACCREDITATION \nWashington University is accredited by the Accreditation Council for Continuing Medical Education to provide continuing medical education for physicians. \nCREDIT \nWashington University designates this live activity for a maximum of  4  AMA PRA Category 1 Credits ™.  Physicians should claim only the credit commensurate with the extent of their participation in the activity. \nIt is the policy of Washington University School of Medicine\, Continuing Medical Education\, that planners\, faculty and other persons who may influence content of this CME activity disclose all relevant financial relationships with commercial interests in order for CME staff to identify and resolve any potential conflicts of interest prior to the educational activity. Faculty must also disclose any planned discussion of unlabeled/unapproved uses of drugs or devices during their presentation. Detailed disclosures will be made in activity handout materials.
URL:https://psnmo.net/event/clinical-rheumatology-symposium-on-the-river-1st-annual/
LOCATION:Dawt Mill\, Tecumseh\, MO\, 65760\, United States
CATEGORIES:Symposiums
ATTACH;FMTTYPE=image/jpeg:https://psnmo.net/wp-content/uploads/2016/05/pexels-photo-133682-e1534861483146.jpeg
END:VEVENT
END:VCALENDAR